Workbook

Sheet Intro
A1: =Source!D383 -> Explication de la checkliste SwissGAP
A3: =Source!D384 -> La checkliste SwissGAP est le document que les producteurs doivent utiliser pour leur auto-contrôle annuel. La checkliste sert aussi de base pour les audits par ProCert.
A5: =Source!D385 -> Niveaux d'exigence:
A7: =Source!D386 -> Exigences majeures: | C7: =Source!D415 -> En trame de fond rouge dans la checkliste, abréviation ++ | G7: ++
C9: =Source!D416 -> Ces points de contrôle doivent être remplis à 100%
A11: =Source!D387 -> Exigences mineures: | C11: =Source!D417 -> En trame de fond jaune dans la checkliste, abréviation + | G11: +
C13: =Source!D418 -> Ces points de contrôle doivent être remplis à 95%
A15: =Source!D388 -> Recommandations: | C15: =Source!D419 -> En trame de fond vert dans la checkliste, abréviation +- | G15: +-
C17: =Source!D420 -> Pas de niveau d'accomplissement exigé
A19: =Source!D389 -> Les réponses suivantes peuvent être données pour les différents points de contrôle:
A21: =Source!D390 -> Oui | B21: =Source!D406 -> L'exigence est intégralement remplie
A23: =Source!D391 -> Non | B23: =Source!D407 -> L'exigence n'est pas intégralement remplie
A25: =Source!D392 -> Non applicable (N/A) | B25: =Source!D408 -> L'exigence n'a aucune signification pour l'exploitation
A28: =Source!D393 -> Déclaration globale
A29: =Source!D394 -> Dans les onglets "Deklaration 1/2/3" une déclaration globale par chapitre est possible. Les points de contrôle correspondants dans la checkliste sont ainsi remplis. Les réponses sont inscrites avec un "D" dans les colonnes Oui ou N/A. En conséquence, la colonne Résultat est rempli avec "Ja(D)" (pour un oui) et "N/A(D)".
A31: =Source!D396 -> Remarque importante pour l'utilisateur
A32: =Source!D397 -> Pour les valeurs issues de la déclaration globale, certaines cellules de la checkliste dans les colonnes "Oui", "N/A" et "Remarque" contiennent des formules. Si l'utilisateur remplace la valeur pré-remplie, il supprime en même temps la formule déposée.
A33: =Source!D398 -> Cette opération ne peut pas être annulée.
A34: =Source!D399 -> Raison pour laquelle, il faut d'abord remplir les feuilles "Deklaration 1/2/3", afin que les points correspondants dans la checkliste soient pré-remplis avec les données de la déclaration. Ce n'est qu'ensuite qu'il faut remplir les points de la checkliste qui ne contiennent pas encore de résultat.
A36: =Source!D395 -> Checkliste sur papier ou format électronique:
A38: =Source!D400 -> La checkliste peut être remplie d'une part à la main (version sur papier) ou sous forme digitale à l'aide d'un fichier Excel. La version électronique comprend toutes les formules qui sont nécessaires pour l'évaluation. Pour remplir la checkliste électronique, la réponse (oui, non, non applicable) doit être indroduite. Avec la version sur papier, une feuille supplémentaire pour l'évaluation est ajoutée. Le nombre de réponses atteint en oui, non et non applicable doit être ajouté par niveau d'exigence (exigences majeures, exigences mineures, recommandations) et le résultat doit être calculé à la main.

Sheet Audit Info
A1: =Source!D284 -> Entreprise | C1: Wählen Sie ihre Sprache Choississez votre langue | E1: Français
B2: =Source!D289 -> N° d'enregistrement | D2: ProCert -
C3: =Source!D317 -> Exploitation: | D3: =Source!D321 -> Adresse postale / Lieu principal
D4: =Source!D322 -> (égale à l'adresse de l'exploitation)
B5: =Source!D290 -> Nom
B6: =Source!D291 -> Adresse
B7: =Source!D292 -> Code postal
B8: =Source!D293 -> Lieu
B9: =Source!D294 -> Canton
B10: =Source!D295 -> Type d'exploitation | C10: =Source!D314 -> Exploitation avec production
A12: =Source!D285 -> Contact
B13: =Source!D297 -> Prénom
B14: =Source!D298 -> Nom
B15: =Source!D299 -> Fonction
B16: =Source!D300 -> Téléphone
B17: =Source!D301 -> Mobile
B18: =Source!D302 -> e-mail
A19: =Source!D286 -> Audit
B20: =Source!D303 -> Standards | C20: SwissGAP Horti Suisse Garantie
B21: =Source!D323 -> Type d'audit | C21: =Source!D328&" "&Source!D329 -> auto-contrôle audit externe | D21: =Source!D330&" "&Source!D331 -> annoncé non-annoncé
B22: =Source!D305 -> Auditeur | D22: =Source!D325 -> Date
B23: =Source!D306 -> Tél. Auditeur | D23: =Source!D326 -> Durée [h]
B24: =Source!D307 -> Durée autres labels
B25: =Source!D308 -> Non-conformité(s)
B26: =Source!D309 -> PC Major
B27: =Source!D310 -> PC Minor
B28: =Source!D311 -> Les signataires confirment avec leur signature l'exactitude des informations faites dans cette checkliste.
B29: =Source!D312 -> Signature exploitation
B30: =Source!D313 -> Signature inspecteur
A31: =Source!D287 -> Remarques
A34: =Source!D332 -> Audités / Liste des sigles de la checkliste
B35: =Source!D333 -> Nom/Prénom | C35: =Source!D334 -> Fonction | D35: =Source!D335 -> Sigle | E35: =Source!D336 -> audité(A) vérification documents (D)

Sheet Deklaration 1
A1: =Source!D810 -> Données de l'exploitation SwissGAP Horticulture
A3: =Source!D811 -> Exploitation: | B3: ='Audit Info'!C5 -> 0 | G3: =Source!D944 -> Date: | H3: =IF(ISBLANK('Audit Info'!E22),"",'Audit Info'!E22)
A5: =Source!D812 -> Sites d'exploitation
A7: =Source!D813 -> Remplir un tableau distinct pour chaque site
A9: =Source!D795 -> Site de production 1
A10: =Source!D796 -> Site avec PHU | B10: =Source!D797 -> Oui | C10: =Source!D798 -> Non
A11: =Source!D799 -> PHU = activité après la récolte (traitement post-récolte, contact avec l'eau, stockage)
A13: =Source!D816 -> Groupes | C13: =Source!D928 -> Culture sous abris | D13: =Source!D930 -> Plein champ | F13: =Source!D937 -> Propriété parallèle
C14: =Source!D929 -> (surface en are) | D14: =Source!D931 -> (surface en are)
A15: =Source!D817 -> Plantes d'ornement
A16: =Source!D976 -> Plantes de saison ou de balcon | G16: =Source!$D$939 -> Oui | H16: =Source!$D$940 -> Non
A17: =Source!D977 -> Plantes en pots | G17: =Source!$D$939 -> Oui | H17: =Source!$D$940 -> Non
A18: =Source!D978 -> Plantes vertes | G18: =Source!$D$939 -> Oui | H18: =Source!$D$940 -> Non
A19: =Source!D979 -> Fleurs coupées | G19: =Source!$D$939 -> Oui | H19: =Source!$D$940 -> Non
A20: =Source!D985 -> Plantes vivaces/herbes ornementales (sans les arbustes à couper) | G20: =Source!$D$939 -> Oui | H20: =Source!$D$940 -> Non
A21: =Source!D818 -> Pépinières
A22: =Source!D980 -> Arbustes (0.5-1m) et couvre-sol | G22: =Source!$D$939 -> Oui | H22: =Source!$D$940 -> Non
A23: =Source!D981 -> Plantes pour haies | G23: =Source!$D$939 -> Oui | H23: =Source!$D$940 -> Non
A24: =Source!D982 -> Conifères | G24: =Source!$D$939 -> Oui | H24: =Source!$D$940 -> Non
A25: =Source!D984 -> Feuillus (caduques et persistants) | G25: =Source!$D$939 -> Oui | H25: =Source!$D$940 -> Non
A26: =Source!D983 -> Arbres fruitiers et petits fruits | G26: =Source!$D$939 -> Oui | H26: =Source!$D$940 -> Non
A27: =Source!D986 -> Rosiers | G27: =Source!$D$939 -> Oui | H27: =Source!$D$940 -> Non
A28: =Source!D819 -> Total des surfaces | C28: =SUM(C16:C27) -> 0 | D28: =SUM(D16:D27) -> 0 | E28: =SUM(E16:E27) -> 0
A29: =Source!D820 -> Surfaces pépinières (pour la registration GLOBALG.A.P.) | D29: =Source!D932 -> 1/3 (première récolte) | F29: =Source!D938 -> 2/3 (récoltes suivantes)
A30: =Source!D980 -> Arbustes (0.5-1m) et couvre-sol | E30: =ROUND(SUM(D22)/3,2) -> 0 | H30: =ROUND(SUM(D22)/3*2,2) -> 0
A31: =Source!D822 -> Plantes pour haies | E31: =ROUND(SUM(D23)/3,2) -> 0 | H31: =ROUND(SUM(D23)/3*2,2) -> 0
A32: =Source!D823 -> Conifères | E32: =ROUND(SUM(D24)/3,2) -> 0 | H32: =ROUND(SUM(D24)/3*2,2) -> 0
A33: =Source!D984 -> Feuillus (caduques et persistants) | E33: =ROUND(SUM(D25)/3,2) -> 0 | H33: =ROUND(SUM(D25)/3*2,2) -> 0
A34: =Source!D983 -> Arbres fruitiers et petits fruits | E34: =ROUND(SUM(D26)/3,2) -> 0 | H34: =ROUND(SUM(D26)/3*2,2) -> 0
A35: =Source!D825 -> Roses | E35: =ROUND(SUM(D27)/3,2) -> 0 | H35: =ROUND(SUM(D27)/3*2,2) -> 0
A38: =Source!D801 -> Site de production 2
A39: =Source!D796 -> Site avec PHU | B39: =Source!D797 -> Oui | C39: =Source!D798 -> Non
A304: =Source!D799 -> PHU = activité après la récolte (traitement post-récolte, contact avec l'eau, stockage)
A306: =Source!D816 -> Groupes | C306: =Source!D928 -> Culture sous abris | D306: =Source!D930 -> Plein champ | F306: =Source!D937 -> Propriété parallèle
C307: =Source!D929 -> (surface en are) | D307: =Source!D931 -> (surface en are)
A308: =Source!D817 -> Plantes d'ornement
A309: =Source!D994 -> Plantes de saison ou de balcon | G309: =Source!$D$939 -> Oui | H309: =Source!$D$940 -> Non
A310: =Source!D995 -> Plantes en pots | G310: =Source!$D$939 -> Oui | H310: =Source!$D$940 -> Non
A311: =Source!D996 -> Plantes vertes | G311: =Source!$D$939 -> Oui | H311: =Source!$D$940 -> Non
A312: =Source!D997 -> Fleurs coupées | G312: =Source!$D$939 -> Oui | H312: =Source!$D$940 -> Non
...

Sheet Deklaration 2
A1: =Source!D828 -> Déclaration globale selon chapitre
A2: =Source!D829 -> Les questions ci-après permettent de répondre de façon globale à certaines exigences SwissGAP. Pour certains chapitres par contre, la déclaration globale ne permet pas de répondre aux exigences.
A4: ='Source PD'!D816 -> Choix | B4: ='Source PD'!D817 -> Chapitre | C4: ='Source PD'!D818 -> Critère | D4: ='Source PD'!D820 -> réponse des points concernés:
D5: n/a | E5: ='Source PD'!D819 -> Oui
B6: 1 | C6: ='Source PD'!D827 -> L'exploitation ne mandate pas d'entreprises sous-traitantes pour exécuter des travaux qui doivent remplir les exigences de SwissGAP. | D6: 1.2.3
B7: 2 | C7: ='Source PD'!D830 -> L'exploitation ne produit pas ses propres plants et/ou ne multiplie pas ses semences et son matériel végétal pour ses propres cultures SwissGAP. | D7: 2.3.1 - 2.3.2
B8: 3 | C8: ='Source PD'!D833 -> Aucune culture SwissGAP n'este cultivée en plein champ. (Les cultures cultivées dans des pots en plein champ ne valent pas comme cultures de plein champ) | D8: 3.1 - 3.3
B9: 4 | C9: ='Source PD'!D839 -> Aucun substrat n'est utilisé sur l'exploitation. | D9: 4.1 - 4.4
B10: 5 | C10: ='Source PD'!D842 -> L'exploitation n'applique pas d'engrais et/ou de biostimulateurs. | D10: 5.1.1 - 5.1.4, 5.2.1 - 5.2.7
B11: 5.3 | C11: ='Source PD'!D853 -> L'exploitation ne dispose pas d'un entrepôt pour les engrais (organiques et inorganiques) et/ou des biostimulateurs. | D11: 5.3.1 - 5.3.5
B12: 5.6 | C12: ='Source PD'!D855 -> L'exploitation ne dispose pas d'un entrepôt pour les concentrés d'acides. | D12: 5.3.6
B13: 6 | C13: ='Source PD'!D858 -> Les cultures ne sont pas irriguées. | D13: 6.1.2 / 6.2.1 - 6.2.2 / 6.4.1
B14: 8 | C14: ='Source PD'!D862 -> Aucun produit phytosanitaire n'est utilisé dans les cultures SwissGAP. | D14: 8.1.1 - 8.1.3, 8.2.1 - 8.2.10, 8.4.1 - 8.4.8, 8.5.1 - 8.5.4, 8.6.1
B15: 8.3 | C15: ='Source PD'!D873 -> Pas d'entrepôt de produits phytosanitaires (PPh). | D15: 8.3.1 - 8.3.10
B16: 10.1 | C16: ='Source PD'!D876 -> L'entreprise n'utilise pas d'eau durant les étapes de post-récolte. | D16: 10.1.1 -10.1.3
B17: 10.2 | C17: ='Source PD'!D878 -> L'entreprise n'effectue pas de traitement post-récolte (par exemple conditionnement de fleurs coupées, coloration de plantes, application de Chrysal, Javel ou Peroxyde). | D17: 10.2.1 - 10.2.6
B18: 11 | C18: ='Source PD'!D881 -> Le concept communal d'élimination des déchets est disponible et appliqué sur l'exploitation. | E18: 11.1-11.2
B19: 12 | C19: ='Source PD'!D892 -> L'exploitation ne dispose pas de champs ouverts, d'espaces verts ou d'espace pour des clôtures vivantes/haies. | D19: 12.1 - 12.3
B20: 18 | C20: ='Source PD'!D889 -> L’exploitation ne déclare pas de propriété parallèle. Les mêmes produits pour lesquels l’exploitation est certifiée ne sont pas achetés (certifiés ou non certifiés). | D20: 18.1 - 18.3

Sheet Deklaration 3
A1: =Source!D849 -> Déclaration globale concernant les résponsabilités, la protection phytosanitaire et la fumure
A2: =Source!D850 -> Les questions ci-après permettent de répondre de façon globale à certaines exigences SwissGAP.
A5: =Source!D851 -> Responsabilité générale | F5: =Source!D945 -> Réponse / Points de contrôle (PC) pertinents:
A7: =Source!D852 -> Les personnes suivantes sont résponsables des décisions techniques et ont suivi les formations horticoles suivantes:
A8: =Source!D879 -> Nom: | B8: =Source!D856 -> Certificat de capacité ou formation équivalente | C8: =Source!D866 -> Permis pour l'emploi de PPh
F9: =Source!D951 -> Si min. 1 personne avec certificat de capacité ou min. formation équivalente et en cas d'utilisation de PPh min. 1 personne avec permis pour l'emploi de PPh: 1.3.1 = oui Si min. 1 personne avec permis pour l'emploi de PPh: 7.1 = oui
A17: =Source!D843 -> Chapitre 5: Fumure
A19: =Source!D882 -> Appareil de fertilisation et méthode d'épandage | C19: =Source!D934 -> Sigle: | D19: =SUM(D20:D25) -> 0 | F19: =Source!D953 -> Si un seul appareil (sigle): 5.2.5 = oui
D20: =IF(C20<>"",1,0) -> 0
D21: =IF(C21<>"",1,0) -> 0
D22: =IF(C22<>"",1,0) -> 0
D23: =IF(C23<>"",1,0) -> 0
D24: =IF(C24<>"",1,0) -> 0
D25: =IF(C25<>"",1,0) -> 0
A27: =Source!D904 -> Si un seul appareil est utilisé, il est possible de déclarer de manière globale. Si plusieurs appareils sont utilisés, le sigle de l'appareil doit être indiqué à chaque application dans le journal des cultures.
A30: =Source!D878 -> Les collaborateurs suivants participent aux travaux de fumure:
A31: =Source!D879 -> Nom: | C31: =Source!D933 -> Initiales: | D31: =SUM(D32:D41) -> 0 | F31: =Source!D952 -> Si un seul utilisateur (initiales): 5.2.6 = oui
D32: =IF(C32<>"",1,0) -> 0
D33: =IF(C33<>"",1,0) -> 0
D34: =IF(C34<>"",1,0) -> 0
D35: =IF(C35<>"",1,0) -> 0
D36: =IF(C36<>"",1,0) -> 0
D37: =IF(C37<>"",1,0) -> 0
D38: =IF(C38<>"",1,0) -> 0
D39: =IF(C39<>"",1,0) -> 0
D40: =IF(C40<>"",1,0) -> 0
D41: =IF(C41<>"",1,0) -> 0
A43: =Source!D881 -> Si une seule personne épand des engrais, il est possible de déclarer de manière globale. Si plusieures personnes épandent des engrais, les initiales des collaborateurs doivent être indiquées à chaque épandage dans le journal des cultures.
A45: =Source!D891 -> Chapitre 8: Protection phytosanitaire
A47: =Source!D895 -> Les personnes suivantes effectuent des traitements phytosanitaires:
A48: =Source!D897 -> Nom / Formation: | C48: =Source!D933 -> Initiales: | D48: =SUM(D49:D54) -> 0 | F48: =Source!D960 -> Si un seul utilisateur (initiales): 8.2.7 = oui
D49: =IF(C49<>"",1,0) -> 0
D50: =IF(C50<>"",1,0) -> 0
D51: =IF(C51<>"",1,0) -> 0
D52: =IF(C52<>"",1,0) -> 0
D53: =IF(C53<>"",1,0) -> 0
D54: =IF(C54<>"",1,0) -> 0
A55: =Source!D901 -> Si une seule personne applique des produits phytosanitaires, il est possible de déclarer de manière globale. Si plusieures personnes appliquent des produits phytosanitaires, les initiales des collaborateurs doivent être indiquées à chaque application dans le journal des cultures.
A58: =Source!D902 -> Engin (méthode d'application): | C58: =Source!D934 -> Sigle: | D58: =SUM(D59:D68) -> 0 | F58: =Source!D961 -> Si un seul appareil (initiales): 8.2.8 = oui
D59: =IF(C59<>"",1,0) -> 0
...

Sheet Checkliste
A1: =Source!D1180 -> N° | B1: =Source!D1181 -> Niveau | C1: =Source!D1182 -> Exigences SwissGAP Horticulture | D1: =Source!D1183 -> Interprétation | E1: Nr | F1: =Source!D1184 -> Oui | G1: =Source!D1185 -> Non | H1: =Source!D1186 -> N/A | I1: =Source!D1187 -> Résultat | J1: =Source!D1188 -> Remarque | K1: Kontrollort | L1: No N/A. | M1: AYes | N1: ANo | O1: ANA | P1: SGA Dekl | Q1: Loc1 | R1: Loc2 | S1: Loc3 | T1: Empty | U1: NonConform | V1: Loc1 | W1: Loc2 | X1: Loc3 | Y1: Empty | Z1: NonConform | AA1: =Source!D1189 -> Documentation d'application Indications pour l'auditeur
A2: =Source_CL!A2 -> 1 | B2: =IF(Source_CL!B2="","",Source_CL!B2) | C2: =Source_CL!C2 -> 1. ENREGISTREMENTS GENERAUX | I2: x | Q2: 1 | R2: 6 | T2: =IF(T3&T4&T5&T6="","",21) -> 21 | V2: 0 | AA2: =IF(Source_CL!J2=0,"",Source_CL!I2)
A3: =Source_CL!A3 -> 1.1 | B3: =IF(Source_CL!B3="","",Source_CL!B3) | C3: =Source_CL!C3 -> 1.1 Historique du site | I3: x | K3: Büro, Betrieb | L3: No N/A | M3: =IF(OR(ISBLANK(F3),LEFT(F3,1)=" "),"",B3) | N3: =IF(OR(ISBLANK(G3),LEFT(G3,1)=" "),"",B3) | O3: =IF(OR(ISBLANK(H3),LEFT(H3,1)=" "),"",B3) | Q3: 1 | R3: 6 | T3: =IF(OR(LEFT(F3,1)= " ",LEFT(G3,1)=" ",LEFT(H3,1)=" ",F3&G3&H3=""),21,"") -> 21 | U3: =IF(G3<>"",22,"") | W3: =V2 -> 0 | AA3: =IF(Source_CL!J3=0,"",Source_CL!I3)
A4: =Source_CL!A4 -> 1.1.1 | B4: =IF(Source_CL!B4="","",Source_CL!B4) -> ++ | C4: =Source_CL!C4 -> Le producteur doit conserver tous les enregistrements actuels, y compris les enregistrements électroniques, pendant au moins 2 ans à moins que la loi ne prescrive des délais de conservation plus longs. Tous les nouveaux requérants doivent avoir établi des enregistrements complets au moins 3 mois avant le premier audit. Lorsque des enregistrements spécifiques sont manquants, le point de contrôle correspondant n'est pas rempli. | D4: =IF(Source_CL!F4=0,"",Source_CL!F4) -> Les producteurs qui s'annoncent pour la première fois doivent présenter des enregistrements pour au moins les 3 derniers mois précédant la première inspection de l'exploitation. | I4: =IF(F4<>"",$F$1,IF(G4<>"",$G$1,IF(H4<>"",$H$1,""))) | K4: Büro | M4: =IF(I4="Ja",B4,IF(I4="Ja(D)",B4,IF(I4="Oui",B4,IF(I4="Oui(D)",B4,"")))) | N4: =IF(I4="Nein",B4,IF(I4="Non",B4,"")) | O4: =IF(I4="N/A",B4,IF(I4="N/A(D)",B4,"")) | Q4: 1 | T4: =IF(OR(LEFT(F4,1)= " ",LEFT(G4,1)=" ",LEFT(H4,1)=" ",F4&G4&H4=""),21,"") -> 21 | U4: =IF(G4<>"",22,"") | X4: =V2 -> 0 | AA4: =IF(Source_CL!J4=0,"",Source_CL!I4) -> Classeur Documentation d'application Auditeur: vérifier les enregistrements
A5: =Source_CL!A5 -> 1.1.2 | B5: =IF(Source_CL!B5="","",Source_CL!B5) -> ++ | C5: =Source_CL!C5 -> Il existe un plan de culture ou un journal de quartier (digital ou sur papier) pour chaque parcelle et chaque serre documentant les mesures de culture. | D5: =IF(Source_CL!F5=0,"",Source_CL!F5) -> Plan de parcelle/quartier et enregistrements des cultures pour toutes les parcelles et serres. | I5: =IF(F5<>"",$F$1,IF(G5<>"",$G$1,IF(H5<>"",$H$1,""))) | K5: Büro | M5: =IF(I5="Ja",B5,IF(I5="Ja(D)",B5,IF(I5="Oui",B5,IF(I5="Oui(D)",B5,"")))) | N5: =IF(I5="Nein",B5,IF(I5="Non",B5,"")) | O5: =IF(I5="N/A",B5,IF(I5="N/A(D)",B5,"")) | Q5: 1 | T5: =IF(OR(LEFT(F5,1)= " ",LEFT(G5,1)=" ",LEFT(H5,1)=" ",F5&G5&H5=""),21,"") -> 21 | U5: =IF(G5<>"",22,"") | Y5: =V2 -> 0 | AA5: =IF(Source_CL!J5=0,"",Source_CL!I5) -> Plan de cultures / Journal de quartier Journal des cultures (FO) Auditeur: vérifier les enregistrements
A6: =Source_CL!A6 -> 1.1.3 | B6: =IF(Source_CL!B6="","",Source_CL!B6) -> ++ | C6: =Source_CL!C6 -> Chaque champ ou serre est identifié par un code unique, par ex. un numéro, une couleur ou un nom de lieu-dit que l'on retrouve sur tous les enregistrements qui se rapportent à la surface. Il n'est pas obligatoire d'apposer des panneaux sur les surfaces de production si celles-ci sont clairement identifiables au moyen d'un plan. | D6: =IF(Source_CL!F6=0,"",Source_CL!F6) -> - | I6: =IF(F6<>"",$F$1,IF(G6<>"",$G$1,IF(H6<>"",$H$1,""))) | K6: Büro | M6: =IF(I6="Ja",B6,IF(I6="Ja(D)",B6,IF(I6="Oui",B6,IF(I6="Oui(D)",B6,"")))) | N6: =IF(I6="Nein",B6,IF(I6="Non",B6,"")) | O6: =IF(I6="N/A",B6,IF(I6="N/A(D)",B6,"")) | Q6: 1 | T6: =IF(OR(LEFT(F6,1)= " ",LEFT(G6,1)=" ",LEFT(H6,1)=" ",F6&G6&H6=""),21,"") -> 21 | U6: =IF(G6<>"",22,"") | Z6: =V2 -> 0 | AA6: =IF(Source_CL!J6=0,"",Source_CL!I6) -> Plan d'ensemble de l'exploitation Plan de cultures / Journal de quartier Auditeur : contrôle visuel, comparaison avec les enregistrements, description du système
A7: =Source_CL!A7 -> 1.2 | B7: =IF(Source_CL!B7="","",Source_CL!B7) | C7: =Source_CL!C7 -> 1.2 Autocontrôle y.c. sous-traitant | I7: x | M7: =IF(I7="Ja",B7,IF(I7="Ja(D)",B7,IF(I7="Oui",B7,IF(I7="Oui(D)",B7,"")))) | N7: =IF(I7="Nein",B7,IF(I7="Non",B7,"")) | O7: =IF(I7="N/A",B7,IF(I7="N/A(D)",B7,"")) | Q7: 1 | T7: =IF(T8&T11&T15&T19&T22="","",21) -> 21 | AA7: =IF(Source_CL!J7=0,"",Source_CL!I7)
A8: =Source_CL!A8 -> 1.2.1 | B8: =IF(Source_CL!B8="","",Source_CL!B8) -> ++ | C8: =Source_CL!C8 -> Le producteur peut prouver qu'il effectue chaque année, avant l'audit de l'organe de certification, un autocontrôle relatif au respect des directives de SwissGAP. La check-list SwissGAP a été entièrement remplie (y.c. commentaires en cas de points de contrôle critiques et non critiques non remplis et non applicables) et peut être présentée. | D8: =IF(Source_CL!F8=0,"",Source_CL!F8) -> Des check-lists SwissGAP (autocontrôles) complètement remplies et datées sont disponibles. Elles doivent être disponibles pour les inspections externes. | I8: =IF(F8<>"",$F$1,IF(G8<>"",$G$1,IF(H8<>"",$H$1,""))) | M8: =IF(I8="Ja",B8,IF(I8="Ja(D)",B8,IF(I8="Oui",B8,IF(I8="Oui(D)",B8,"")))) | N8: =IF(I8="Nein",B8,IF(I8="Non",B8,"")) | O8: =IF(I8="N/A",B8,IF(I8="N/A(D)",B8,"")) | Q8: 1 | T8: =IF(T9&T10="","",21) -> 21 | AA8: =IF(Source_CL!J8=0,"",Source_CL!I8) -> SwissGAP Horticulture Checklist Auditeur : noter la date à laquelle l'autocontrôle a été terminé
A9: =Source_CL!A9 -> 1.2.2 | B9: =IF(Source_CL!B9="","",Source_CL!B9) -> ++ | C9: =Source_CL!C9 -> Les mesures correctives découlant de l'autocontrôle ont été enregistrées et appliquées. Cela n'est nécessaire que si 100% des critères obligatoires critiques et que 95% des critères obligatoires non critiques ne sont pas remplis, sinon N/A | D9: =IF(Source_CL!F9=0,"",Source_CL!F9) -> Des mesures correctives doivent être établies pour tous les critères obligatoires critiques et non critiques si le niveau de suivi exigé n'a pas été rempli. Le formulaire "mesures correctives" disponible dans la documentation d'application peut être utilisé à ce titre. Il n'est pas obligatoire de prendre des mesures correctives pour les recommandations. Si aucune mesure corrective n'est nécessaire, il est possible de répondre par N/A. | I9: =IF(F9<>"",$F$1,IF(G9<>"",$G$1,IF(H9<>"",$H$1,""))) | K9: Büro | L9: No N/A | M9: =IF(I9="Ja",B9,IF(I9="Ja(D)",B9,IF(I9="Oui",B9,IF(I9="Oui(D)",B9,"")))) | N9: =IF(I9="Nein",B9,IF(I9="Non",B9,"")) | O9: =IF(I9="N/A",B9,IF(I9="N/A(D)",B9,"")) | Q9: 1 | T9: =IF(OR(LEFT(F9,1)= " ",LEFT(G9,1)=" ",LEFT(H9,1)=" ",F9&G9&H9=""),21,"") -> 21 | U9: =IF(G9<>"",22,"") | AA9: =IF(Source_CL!J9=0,"",Source_CL!I9) -> SwissGAP Horticulture Checklist Mesures correctives (FO) Auditeur : vérifier si les mesures correctives nécessaires sont documentées
A10: =Source_CL!A10 -> 1.2.3 | B10: =IF(Source_CL!B10="","",Source_CL!B10) -> ++ | C10: =Source_CL!C10 -> Le producteur est responsable du respect des points de contrôle par le sous-traitant et prend également cela en considération lors de l'autocontrôle. En cas de doute, l'inspecteur a le droit d'effectuer un contrôle des points de contrôle correspondants. | D10: =IF(Source_CL!F10=0,"",Source_CL!F10) -> Le producteur peut conclure une convention avec chaque sous-traitant, dans laquelle ce dernier s'engage à respecter les exigences qui le concernent. | H10: =IF('Source PD'!B827,"D","") | I10: =IF(F10<>"",F1,IF(G10<>"",G1,IF(H10="D","N/A(D)",IF(H10<>"","N/A",IF('Source PD'!B827,"N/A(D)",""))))) | K10: Büro | L10: No N/A | M10: =IF(I10="Ja",B10,IF(I10="Ja(D)",B10,IF(I10="Oui",B10,IF(I10="Oui(D)",B10,"")))) | N10: =IF(I10="Nein",B10,IF(I10="Non",B10,"")) | O10: =IF(I10="N/A",B10,IF(I10="N/A(D)",B10,"")) | Q10: 1 | T10: =IF(OR(LEFT(F10,1)= " ",LEFT(G10,1)=" ",LEFT(H10,1)=" ",F10&G10&H10=""),21,"") -> 21 | U10: =IF(G10<>"",22,"") | AA10: =IF(Source_CL!J10=0,"",Source_CL!I10) -> Contrat avec des sous-traitants (FO) Auditeur : noter le sous-traitant et les activités. Vérifier si cette activité est prise en compte dans l'autocontrôle.
A11: =Source_CL!A11 -> 1.3 | B11: =IF(Source_CL!B11="","",Source_CL!B11) | C11: =Source_CL!C11 -> 1.3 Responsabilités et formations | I11: x | M11: =IF(I11="Ja",B11,IF(I11="Ja(D)",B11,IF(I11="Oui",B11,IF(I11="Oui(D)",B11,"")))) | N11: =IF(I11="Nein",B11,IF(I11="Non",B11,"")) | O11: =IF(I11="N/A",B11,IF(I11="N/A(D)",B11,"")) | Q11: 1 | T11: =IF(T12&T13&T14="","",21) -> 21 | AA11: =IF(Source_CL!J11=0,"",Source_CL!I11)
A12: =Source_CL!A12 -> 1.3.1 | B12: =IF(Source_CL!B12="","",Source_CL!B12) -> ++ | C12: =Source_CL!C12 -> La personne responsable des décisions techniques peut prouver sa compétence et a accès à une littérature / des cours spécialisés actualisés : - pour les engrais (choix du type et de la quantité d'engrais utilisés) : Certificat professionnel (CFC), cours spécialisé ou expérience pratique suffisante. - pour les produits phytosanitaires et les produits de traitement post-récolte (choix des produits phytosanitaires et décision quant à leur utilisation) : Réussite de l'examen du cours spécialisé correspondant (permis pour l'emploi des produits phytosanitaires). La preuve de compétence est considérée comme établie, si les produits sont determinés par un conseiller des services cantonaux de vulgarisation ou des entreprises d'engrais/de produits phytosanitaires. Si d'autres conseillers déterminent les produits, la preuve doit être apportée sur la base du permis professionnel. | D12: =IF(Source_CL!F12=0,"",Source_CL!F12) -> Engrais : formation initiale ou continue en horticulture ou en agriculture ou participation à un cours spécialisé correspondant. En l'absence d'attestation de cours ou de formation, deux ans d'expérience pratique sont exigés. Protection des plantes : avoir réussi l'examen du cours spécialisé correspondant (permis professionnel). | I12: =IF(F12="D",Source!D280,IF(F12<>"",F1,IF(G12<>"",G1,IF(H12<>"","N/A",IF(AND(Source!C860=1,Source!C870=1),"D",""))))) | J12: =IF(Checkliste!I12=Source!D280,'Source PD'!$D$825&Source!$D$877,"") | K12: Büro | L12: No N/A | M12: =IF(I12="Ja",B12,IF(I12="Ja(D)",B12,IF(I12="Oui",B12,IF(I12="Oui(D)",B12,"")))) | N12: =IF(I12="Nein",B12,IF(I12="Non",B12,"")) | O12: =IF(I12="N/A",B12,IF(I12="N/A(D)",B12,"")) | Q12: 1 | T12: =IF(OR(LEFT(F12,1)= " ",LEFT(G12,1)=" ",LEFT(H12,1)=" ",F12&G12&H12=""),21,"") -> 21 | U12: =IF(G12<>"",22,"") | AA12: =IF(Source_CL!J12=0,"",Source_CL!I12) -> Déclaration globale (voir checkliste Excel) Certificat professionnel (formation, permis professionnel) Copie du permis, resp. du certificat Auditeur : demander la formation, consulter en cas de doute, noter la/les personne(s)
A13: =Source_CL!A13 -> 1.3.2 | B13: =IF(Source_CL!B13="","",Source_CL!B13) -> + | C13: =Source_CL!C13 -> Pour tous les employés, les justificatifs de formation et d'instruction nécessaires doivent être disponibles pour leurs domaines de responsabilité (date, sujet, instructeur, participant, confirmation de participation/visa). | D13: =IF(Source_CL!F13=0,"",Source_CL!F13) | I13: =IF(F13<>"",$F$1,IF(G13<>"",$G$1,IF(H13<>"","N/A",""))) | K13: Büro | L13: No N/A | M13: =IF(I13="Ja",B13,IF(I13="Ja(D)",B13,IF(I13="Oui",B13,IF(I13="Oui(D)",B13,"")))) | N13: =IF(I13="Nein",B13,IF(I13="Non",B13,"")) | O13: =IF(I13="N/A",B13,IF(I13="N/A(D)",B13,"")) | Q13: 1 | T13: =IF(OR(LEFT(F13,1)= " ",LEFT(G13,1)=" ",LEFT(H13,1)=" ",F13&G13&H13=""),21,"") -> 21 | U13: =IF(G13<>"",22,"") | AA13: =IF(Source_CL!J13=0,"",Source_CL!I13) -> Attestations de cours Instruction des collaborateurs (CL) Auditeur : vérifier à l'aide d'un collaborateur interrogé, noter l'exemple
A14: =Source_CL!A14 -> 1.3.3 | B14: =IF(Source_CL!B14="","",Source_CL!B14) -> + | C14: =Source_CL!C14 -> Tous les employés, y compris les propriétaires et les chefs d'entreprise, sont formés aux procédures de santé et de sécurité et aux instructions d'hygiène. Les formations doivent être répétées chaque année ou complétées en cas de nouvelles conditions (nouvelles procédures, nouveaux appareils, acquisition de nouvelles activités, etc.) et confirmées par les participants (liste de présence). Les formations peuvent également être organisées en interne. | D14: =IF(Source_CL!F14=0,"",Source_CL!F14) | I14: =IF(F14<>"",$F$1,IF(G14<>"",$G$1,IF(H14<>"","N/A",""))) | K14: Büro | L14: No N/A | M14: =IF(I14="Ja",B14,IF(I14="Ja(D)",B14,IF(I14="Oui",B14,IF(I14="Oui(D)",B14,"")))) | N14: =IF(I14="Nein",B14,IF(I14="Non",B14,"")) | O14: =IF(I14="N/A",B14,IF(I14="N/A(D)",B14,"")) | Q14: 1 | T14: =IF(OR(LEFT(F14,1)= " ",LEFT(G14,1)=" ",LEFT(H14,1)=" ",F14&G14&H14=""),21,"") -> 21 | U14: =IF(G14<>"",22,"") | AA14: =IF(Source_CL!J14=0,"",Source_CL!I14) -> Attestations de cours Instruction des collaborateurs (CL) Auditeur : Interroger les employés lors de la visite, noter les noms
A15: =Source_CL!A15 -> 1.3.4 | B15: =IF(Source_CL!B15="","",Source_CL!B15) -> ++ | C15: =Source_CL!C15 -> Pour tous les collaborateurs qui : - utilisent des produits phytosanitaires, des herbicides, des biocides, des produits chimiques, des produits de désinfection ou d'autres substances dangereuses, - travaillent avec des machines ou des appareils dangereux nécessitant une formation technique spécifique, - travaillent en hauteur il est possible de documenter à l'aide d'attestations de participation ou de listes de présence signées qu'ils ont reçu des instructions ou que les programmes de formation exigés ont été effectués. | D15: =IF(Source_CL!F15=0,"",Source_CL!F15) -> Produits phytosanitaires : formation ou formation continue en horticulture ou en agriculture ou participation au cours professionnel correspondant. S'il n'y a pas de justificatif de cours ou de formation, une expérience pratique de 2 ans est exigée. Exemples d'appareils dangereux : machines avec des parties mobiles, chariots élévateurs, tracteurs. De telles machines doivent être utilisées par une personne formée en conséquence et un examen de cariste est exigé pour les conducteurs de chariots élévateurs. | I15: =IF(F15<>"",$F$1,IF(G15<>"",$G$1,IF(H15<>"","N/A",""))) | M15: =IF(I15="Ja",B15,IF(I15="Ja(D)",B15,IF(I15="Oui",B15,IF(I15="Oui(D)",B15,"")))) | N15: =IF(I15="Nein",B15,IF(I15="Non",B15,"")) | O15: =IF(I15="N/A",B15,IF(I15="N/A(D)",B15,"")) | Q15: 1 | T15: =IF(T16&T17&T18="","",21) -> 21 | AA15: =IF(Source_CL!J15=0,"",Source_CL!I15) -> Instruction des collaborateurs (CL)
A16: =Source_CL!A16 -> 1.3.5 | B16: =IF(Source_CL!B16="","",Source_CL!B16) -> + | C16: =Source_CL!C16 -> Au moins une personne pour 50 employés ayant une formation en premiers secours est présente lors des travaux dans les champs et sur les lignes de tri et d'emballage. Il peut s'agir de personnes ayant obtenu leur permis de conduire au cours des cinq dernières années ou ayant suivi un cours de secourisme. | D16: =IF(Source_CL!F16=0,"",Source_CL!F16) -> Les personnes disposant d'un permis de conduire fédéral (cours de remiers secours) sont considérées comme formées. Questions orales dans l'exploitation. | I16: =IF(F16<>"",$F$1,IF(G16<>"",$G$1,IF(H16<>"","N/A",""))) | K16: Büro | L16: No N/A | M16: =IF(I16="Ja",B16,IF(I16="Ja(D)",B16,IF(I16="Oui",B16,IF(I16="Oui(D)",B16,"")))) | N16: =IF(I16="Nein",B16,IF(I16="Non",B16,"")) | O16: =IF(I16="N/A",B16,IF(I16="N/A(D)",B16,"")) | Q16: 1 | T16: =IF(OR(LEFT(F16,1)= " ",LEFT(G16,1)=" ",LEFT(H16,1)=" ",F16&G16&H16=""),21,"") -> 21 | U16: =IF(G16<>"",22,"") | AA16: =IF(Source_CL!J16=0,"",Source_CL!I16) -> Auditeur : Questionnement oral, comparer et noter le nombre de personnes formées avec le nombre d'employés.
A17: =Source_CL!A17 -> 1.4 | B17: =IF(Source_CL!B17="","",Source_CL!B17) | C17: =Source_CL!C17 -> 1.4 Exigences des clients | I17: x | K17: Büro | L17: No N/A | M17: =IF(I17="Ja",B17,IF(I17="Ja(D)",B17,IF(I17="Oui",B17,IF(I17="Oui(D)",B17,"")))) | N17: =IF(I17="Nein",B17,IF(I17="Non",B17,"")) | O17: =IF(I17="N/A",B17,IF(I17="N/A(D)",B17,"")) | Q17: 1 | T17: =IF(OR(LEFT(F17,1)= " ",LEFT(G17,1)=" ",LEFT(H17,1)=" ",F17&G17&H17=""),21,"") -> 21 | U17: =IF(G17<>"",22,"") | AA17: =IF(Source_CL!J17=0,"",Source_CL!I17)
A18: =Source_CL!A18 -> 1.4.1 | B18: =IF(Source_CL!B18="","",Source_CL!B18) -> + | C18: =Source_CL!C18 -> Des conventions écrites peuvent être présentées, pour autant qu'il existe des accords sur les exigences de qualité entre l'acheteur et le producteur. Le producteur doit prouver qu'il respecte les exigences de qualité convenues ou, au moins, usuelles dans la branche. | D18: =IF(Source_CL!F18=0,"",Source_CL!F18) -> S'il existe des accords spécifiques à l'entreprise avec l'acheteur et si ceux-ci vont au-delà des exigences habituelles de la branche, ils doivent être présentés. | I18: =IF(F18<>"",$F$1,IF(G18<>"",$G$1,IF(H18<>"","N/A",""))) | K18: Büro | L18: No N/A | M18: =IF(I18="Ja",B18,IF(I18="Ja(D)",B18,IF(I18="Oui",B18,IF(I18="Oui(D)",B18,"")))) | N18: =IF(I18="Nein",B18,IF(I18="Non",B18,"")) | O18: =IF(I18="N/A",B18,IF(I18="N/A(D)",B18,"")) | Q18: 1 | T18: =IF(OR(LEFT(F18,1)= " ",LEFT(G18,1)=" ",LEFT(H18,1)=" ",F18&G18&H18=""),21,"") -> 21 | U18: =IF(G18<>"",22,"") | AA18: =IF(Source_CL!J18=0,"",Source_CL!I18) -> Lettre type_Directives de l‘acheteur Auditeur : questionnement oral. Consulter les accords des acheteurs, s'ils existent, et vérifier qu'ils sont respectées.
A19: =Source_CL!A19 -> 1.5 | B19: =IF(Source_CL!B19="","",Source_CL!B19) | C19: =Source_CL!C19 -> 1.5 Rappel et retrait | I19: x | M19: =IF(I19="Ja",B19,IF(I19="Ja(D)",B19,IF(I19="Oui",B19,IF(I19="Oui(D)",B19,"")))) | N19: =IF(I19="Nein",B19,IF(I19="Non",B19,"")) | O19: =IF(I19="N/A",B19,IF(I19="N/A(D)",B19,"")) | Q19: 1 | T19: =IF(T20&T21="","",21) -> 21 | AA19: =IF(Source_CL!J19=0,"",Source_CL!I19)
A20: =Source_CL!A20 -> 1.5.1 | B20: =IF(Source_CL!B20="","",Source_CL!B20) -> + | C20: =Source_CL!C20 -> L'entreprise dispose d'une procédure pour le rappel ou le retrait de produits du marché, qui comprend les aspects suivants : - les causes possibles qui peuvent déclencher un rappel ou un retrait - personne responsable au sein de l'entreprise qui prend la décision - mécanisme de communication aux acheteurs (y compris une liste des personnes de contact avec numéro de téléphone et e-mail des acheteurs) - méthodes de comparaison des stocks du lot concerné. | D20: =IF(Source_CL!F20=0,"",Source_CL!F20) -> Il n'est pas nécessaire d'effectuer un test annuel. | I20: =IF(F20<>"",$F$1,IF(G20<>"",$G$1,IF(H20<>"","N/A",""))) | K20: Büro | L20: No N/A | M20: =IF(I20="Ja",B20,IF(I20="Ja(D)",B20,IF(I20="Oui",B20,IF(I20="Oui(D)",B20,"")))) | N20: =IF(I20="Nein",B20,IF(I20="Non",B20,"")) | O20: =IF(I20="N/A",B20,IF(I20="N/A(D)",B20,"")) | Q20: 1 | T20: =IF(OR(LEFT(F20,1)= " ",LEFT(G20,1)=" ",LEFT(H20,1)=" ",F20&G20&H20=""),21,"") -> 21 | U20: =IF(G20<>"",22,"") | AA20: =IF(Source_CL!J20=0,"",Source_CL!I20) -> Procédure pour le rappel des marchandises (RL) Auditeur : vérifier si la procédure est complète
A21: =Source_CL!A21 -> 2 | B21: =IF(Source_CL!B21="","",Source_CL!B21) | C21: =Source_CL!C21 -> 2. MATÉRIEL DE REPRODUCTION (PLANTS, SEMENCES ET PORTE-GREFFE) | I21: x | K21: Büro | L21: No N/A | M21: =IF(I21="Ja",B21,IF(I21="Ja(D)",B21,IF(I21="Oui",B21,IF(I21="Oui(D)",B21,"")))) | N21: =IF(I21="Nein",B21,IF(I21="Non",B21,"")) | O21: =IF(I21="N/A",B21,IF(I21="N/A(D)",B21,"")) | Q21: 1 | T21: =IF(OR(LEFT(F21,1)= " ",LEFT(G21,1)=" ",LEFT(H21,1)=" ",F21&G21&H21=""),21,"") -> 21 | U21: =IF(G21<>"",22,"") | AA21: =IF(Source_CL!J21=0,"",Source_CL!I21)
A22: =Source_CL!A22 -> 2.1 | B22: =IF(Source_CL!B22="","",Source_CL!B22) | C22: =Source_CL!C22 -> 2.1 Durée de culture dans l'exploitation | I22: x | M22: =IF(I22="Ja",B22,IF(I22="Ja(D)",B22,IF(I22="Oui",B22,IF(I22="Oui(D)",B22,"")))) | N22: =IF(I22="Nein",B22,IF(I22="Non",B22,"")) | O22: =IF(I22="N/A",B22,IF(I22="N/A(D)",B22,"")) | Q22: 1 | T22: =IF(T23&T24="","",21) -> 21 | AA22: =IF(Source_CL!J22=0,"",Source_CL!I22)
A23: =Source_CL!A23 -> 2.1.1 | B23: =IF(Source_CL!B23="","",Source_CL!B23) -> ++ | C23: =Source_CL!C23 -> Lors de l'achat de boutures et de plantons non-certifiés (Swiss GAP ou GLOBAL G.A.P), les exigences suivantes sont prises en compte pour pouvoir commercialiser les cultures en tant que SwissGAP: - les cultures doivent être cultivées pendant au moins 3 mois dans une exploitation SwissGAP. - lorsque la phase végétative (depuis le semis resp. la mise en terre des boutures) est plus courte que 3 mois, au moins les deux tiers de la phase végétative doivent avoir lieux dans une exploitation SwissGAP. - pour les fleurs, les caractéristiques typiques de la plante (p.ex. floraison, taille) doivent être formées dans l'exploitation SwissGAP. - Pour les bulbes de fleurs (p.ex. tulipes), le matériel de multiplication doit déjà être certifié pour que le produit soit autorisé à être vendu comme produit certifié SwissGAP. | D23: =IF(Source_CL!F23=0,"",Source_CL!F23) -> L'achat de matériel de multiplication non-certifié ne compte pas comme propriété parallèle. Le temps de culture dans l'exploitation sera vérifié au moyen d'exemples. Le fournisseur (Producteur du matériel de multiplication ou commerçant) doit pouvoir attester du respect de la licence existante ou d'une certification GLOBAL G.A.P. | I23: =IF(F23<>"",$F$1,IF(G23<>"",$G$1,IF(H23<>"","N/A",""))) | K23: Büro | L23: No N/A | M23: =IF(I23="Ja",B23,IF(I23="Ja(D)",B23,IF(I23="Oui",B23,IF(I23="Oui(D)",B23,"")))) | N23: =IF(I23="Nein",B23,IF(I23="Non",B23,"")) | O23: =IF(I23="N/A",B23,IF(I23="N/A(D)",B23,"")) | Q23: 1 | T23: =IF(OR(LEFT(F23,1)= " ",LEFT(G23,1)=" ",LEFT(H23,1)=" ",F23&G23&H23=""),21,"") -> 21 | U23: =IF(G23<>"",22,"") | AA23: =IF(Source_CL!J23=0,"",Source_CL!I23) -> Bulletins de livraison de matériel de multiplication év. certificats phytosanitaires Auditeur: vérifier les documents, décrire la durée de culture dans l'entreprise à l'aide d'un exemple
A24: =Source_CL!A24 -> 2.2 | B24: =IF(Source_CL!B24="","",Source_CL!B24) | C24: =Source_CL!C24 -> 2.2 Matériel de multiplication acheté | I24: x | K24: Büro | L24: No N/A | M24: =IF(I24="Ja",B24,IF(I24="Ja(D)",B24,IF(I24="Oui",B24,IF(I24="Oui(D)",B24,"")))) | N24: =IF(I24="Nein",B24,IF(I24="Non",B24,"")) | O24: =IF(I24="N/A",B24,IF(I24="N/A(D)",B24,"")) | Q24: 1 | T24: =IF(OR(LEFT(F24,1)= " ",LEFT(G24,1)=" ",LEFT(H24,1)=" ",F24&G24&H24=""),21,"") -> 21 | U24: =IF(G24<>"",22,"") | AA24: =IF(Source_CL!J24=0,"",Source_CL!I24)
A25: =Source_CL!A25 -> 2.2.1 | B25: =IF(Source_CL!B25="","",Source_CL!B25) -> ++ | C25: =Source_CL!C25 -> Pour les semences et le matériel de multiplication achetés, des passeports phytosanitaires, des certificats, des emballages vides, des factures, etc. sont disponibles, contenant des informations sur le nom de la variété, le numéro de lot et le fournisseur et, le cas échéant, sur la qualité des semences (p. ex. capacité de germination, pureté variétale, santé). L'acquisition de matériel de multiplication auprès d'entreprises certifiées SwissGAP ou GLOBALG.A.P. est également considéré comme une preuve. | D25: =IF(Source_CL!F25=0,"",Source_CL!F25) -> Conserver les passeports phytosanitaires, certificats des plants, emballages vides et factures. Vérifier l'assortiment au moyen de la liste des variétés de la branche. | I25: =IF(F25<>"",$F$1,IF(G25<>"",$G$1,IF(H25<>"","N/A",""))) | M25: =IF(I25="Ja",B25,IF(I25="Ja(D)",B25,IF(I25="Oui",B25,IF(I25="Oui(D)",B25,"")))) | N25: =IF(I25="Nein",B25,IF(I25="Non",B25,"")) | O25: =IF(I25="N/A",B25,IF(I25="N/A(D)",B25,"")) | Q25: 1 | R25: 3 | T25: =IF(T26&T29="","",21) -> 21 | AA25: =IF(Source_CL!J25=0,"",Source_CL!I25) -> Passeport phytosanitaire (KO) év. certificats de fournisseurs Auditeur : Contrôler les documents/emballages
A26: =Source_CL!A26 -> 2.2.2 | B26: =IF(Source_CL!B26="","",Source_CL!B26) -> ++ | C26: =Source_CL!C26 -> Sur demande, le producteur peut prouver, en plus des exigences du point 2.2.1, que le matériel de multiplication acquis au cours des 24 derniers mois l'a été en conformité avec les droits de propriété intellectuelle nationaux. | D26: =IF(Source_CL!F26=0,"",Source_CL!F26) -> Remarque : la base de données PLUTO de l'UPOV (https://www.upov.int/pluto/fr) et le Variety Finder pour la recherche de variétés sur le site Web de l'Office communautaire des variétés végétales (OCVV) (https://cpvo.europa.eu/en/applications-and-examinations/cpvo-variety-finder) répertorient toutes les variétés dans le monde, y compris leurs données d'enregistrement et les données relatives à la protection de la propriété intellectuelle par variété et par pays. | I26: =IF(F26<>"",$F$1,IF(G26<>"",$G$1,IF(H26<>"","N/A",""))) | M26: =IF(I26="Ja",B26,IF(I26="Ja(D)",B26,IF(I26="Oui",B26,IF(I26="Oui(D)",B26,"")))) | N26: =IF(I26="Nein",B26,IF(I26="Non",B26,"")) | O26: =IF(I26="N/A",B26,IF(I26="N/A(D)",B26,"")) | Q26: 1 | T26: =IF(T27&T28="","",21) -> 21 | AA26: =IF(Source_CL!J26=0,"",Source_CL!I26) -> Déclaration du fournisseur Auditeur : Contrôler les documents/emballages
A27: =Source_CL!A27 -> 2.2.3 | B27: =IF(Source_CL!B27="","",Source_CL!B27) -> + | C27: =Source_CL!C27 -> Des informations sont disponibles (enregistrements reçus/emballages des semences) concernant les produits utilisés pour les traitements de semences achetées ou de plants au stade végétatif (imprégnation, enrobage, etc.) effectués par le fournisseur. Pas applicable (N/A) pour les cultures pérennes. | D27: =IF(Source_CL!F27=0,"",Source_CL!F27) -> Conserver les emballages jusqu'au prochain contrôle. S'il y a uniquement des cultures pérennes certifiées, le point n'est pas applicable. | I27: =IF(F27<>"",$F$1,IF(G27<>"",$G$1,IF(H27<>"","N/A",""))) | K27: Büro | L27: No N/A | M27: =IF(I27="Ja",B27,IF(I27="Ja(D)",B27,IF(I27="Oui",B27,IF(I27="Oui(D)",B27,"")))) | N27: =IF(I27="Nein",B27,IF(I27="Non",B27,"")) | O27: =IF(I27="N/A",B27,IF(I27="N/A(D)",B27,"")) | Q27: 1 | T27: =IF(OR(LEFT(F27,1)= " ",LEFT(G27,1)=" ",LEFT(H27,1)=" ",F27&G27&H27=""),21,"") -> 21 | U27: =IF(G27<>"",22,"") | AA27: =IF(Source_CL!J27=0,"",Source_CL!I27) -> Auditeur : Contrôler les documents/emballages
A28: =Source_CL!A28 -> 2.3 | B28: =IF(Source_CL!B28="","",Source_CL!B28) | C28: =Source_CL!C28 -> 2.3 Propre multiplication | I28: x | K28: Büro | M28: =IF(I28="Ja",B28,IF(I28="Ja(D)",B28,IF(I28="Oui",B28,IF(I28="Oui(D)",B28,"")))) | N28: =IF(I28="Nein",B28,IF(I28="Non",B28,"")) | O28: =IF(I28="N/A",B28,IF(I28="N/A(D)",B28,"")) | Q28: 1 | T28: =IF(OR(LEFT(F28,1)= " ",LEFT(G28,1)=" ",LEFT(H28,1)=" ",F28&G28&H28=""),21,"") -> 21 | U28: =IF(G28<>"",22,"") | AA28: =IF(Source_CL!J28=0,"",Source_CL!I28)
A29: =Source_CL!A29 -> 2.3.1 | B29: =IF(Source_CL!B29="","",Source_CL!B29) -> + | C29: =Source_CL!C29 -> Pour surveiller la santé des plants autoproduits, des tournées de contrôle sont effectuées selon une procédure écrite pour détecter les signes visibles de ravageurs et de maladies, et toute présence constatée est documentée. Les cultures ont été déclarées pour le contrôle du passeport phytosanitaire. | D29: =IF(Source_CL!F29=0,"",Source_CL!F29) -> Les cultures peuvent être rassemblées en groupes de produits pour les visites de contrôle. Une procédure écrite doit documenter la manière dont les visites de contrôle sont effectuées (fréquence, objet du contrôle, etc.). Toute contamination constatée doit être documentée. | H29: =IF('Source PD'!$B$830,"D","") | I29: =IF(F29<>"",$F$1,IF(G29<>"",$G$1,IF(H29="D","N/A(D)",IF(H29<>"","N/A",IF('Source PD'!$B$830,"N/A(D)",""))))) | J29: =IF('Source PD'!$B$830,'Source PD'!$D$825&'Source PD'!$D$831,"") | M29: =IF(I29="Ja",B29,IF(I29="Ja(D)",B29,IF(I29="Oui",B29,IF(I29="Oui(D)",B29,"")))) | N29: =IF(I29="Nein",B29,IF(I29="Non",B29,"")) | O29: =IF(I29="N/A",B29,IF(I29="N/A(D)",B29,"")) | Q29: 1 | R29: 3 | T29: =IF(T30&T31="","",21) -> 21 | AA29: =IF(Source_CL!J29=0,"",Source_CL!I29) -> Surveillance de l’état sanitaire des plants autoproduits (RL) Surveillance ravageurs et maladies (FO) Auditeur : vérifier les procédures & éventuellement les enregistrements
A30: =Source_CL!A30 -> 2.3.2 | B30: =IF(Source_CL!B30="","",Source_CL!B30) -> + | C30: =Source_CL!C30 -> Les traitements phytosanitaires appliqués durant la période de croissance sur les plants et semences destinés à l'autoproduction doivent être documentés et comporter les mêmes enregistrements qu'au chapitre sur la lutte phytosanitaire (ch. 8.2). Non applicable pour les cultures pérennes. | D30: =IF(Source_CL!F30=0,"",Source_CL!F30) -> Seulement en cas d'autoproduction. | H30: =IF('Source PD'!$B$830,"D","") | I30: =IF(F30<>"",$F$1,IF(G30<>"",$G$1,IF(H30="D","N/A(D)",IF(H30<>"","N/A",IF('Source PD'!$B$830,"N/A(D)",""))))) | J30: =IF('Source PD'!$B$830,'Source PD'!$D$825&'Source PD'!$D$831,"") | K30: Büro | L30: No N/A | M30: =IF(I30="Ja",B30,IF(I30="Ja(D)",B30,IF(I30="Oui",B30,IF(I30="Oui(D)",B30,"")))) | N30: =IF(I30="Nein",B30,IF(I30="Non",B30,"")) | O30: =IF(I30="N/A",B30,IF(I30="N/A(D)",B30,"")) | Q30: 1 | T30: =IF(OR(LEFT(F30,1)= " ",LEFT(G30,1)=" ",LEFT(H30,1)=" ",F30&G30&H30=""),21,"") -> 21 | U30: =IF(G30<>"",22,"") | AA30: =IF(Source_CL!J30=0,"",Source_CL!I30) -> Journal des cultures (FO) Auditeur : vérifier les enregistrements et, le cas échéant, documenter une application
A31: =Source_CL!A31 -> 3 | B31: =IF(Source_CL!B31="","",Source_CL!B31) | C31: =Source_CL!C31 -> 3. GESTION DU SOL | I31: x | K31: Büro | M31: =IF(I31="Ja",B31,IF(I31="Ja(D)",B31,IF(I31="Oui",B31,IF(I31="Oui(D)",B31,"")))) | N31: =IF(I31="Nein",B31,IF(I31="Non",B31,"")) | O31: =IF(I31="N/A",B31,IF(I31="N/A(D)",B31,"")) | Q31: 1 | T31: =IF(OR(LEFT(F31,1)= " ",LEFT(G31,1)=" ",LEFT(H31,1)=" ",F31&G31&H31=""),21,"") -> 21 | U31: =IF(G31<>"",22,"") | AA31: =IF(Source_CL!J31=0,"",Source_CL!I31)
A32: =Source_CL!A32 -> 3.1 | B32: =IF(Source_CL!B32="","",Source_CL!B32) -> + | C32: =Source_CL!C32 -> La rotation des cultures annuelles est enregistrée et peut être documentée pour les 5 dernières années. Seulement applicable aux cultures de plein champ. | D32: =IF(Source_CL!F32=0,"",Source_CL!F32) -> Pour les cultures en plein champ, les cultures précédentes peuvent être prouvées p.ex à l'aide du journal des parcelles ou du plan d'occupation. | H32: =IF('Source PD'!$B$833,"D","") | I32: =IF(F32<>"",$F$1,IF(G32<>"",$G$1,IF(H32="D","N/A(D)",IF(H32<>"","N/A",IF('Source PD'!$B$833,"N/A(D)",""))))) | J32: =IF(Checkliste!I32="N/A(D)",'Source PD'!$D$825&'Source PD'!$D$835,"") | M32: =IF(I32="Ja",B32,IF(I32="Ja(D)",B32,IF(I32="Oui",B32,IF(I32="Oui(D)",B32,"")))) | N32: =IF(I32="Nein",B32,IF(I32="Non",B32,"")) | O32: =IF(I32="N/A",B32,IF(I32="N/A(D)",B32,"")) | P32: =IF(COUNTIF(I32,"="&"Nein")>0,"FALSCH","WAHR") -> WAHR | Q32: 1 | R32: 3 | T32: =IF(T33&T34&T35&T36="","",21) -> 21 | AA32: =IF(Source_CL!J32=0,"",Source_CL!I32) -> Journal des cultures (FO) Auditeur: vérifier les enregistrements
A33: =Source_CL!A33 -> 3.2 | B33: =IF(Source_CL!B33="","",Source_CL!B33) -> + | C33: =Source_CL!C33 -> Les techniques du travail du sol utilisées préservent la structure du sol et minimisent le compactage du sol (par ex. utilisation de racines profondes, drainage, pression des pneus adaptée, etc).. | D33: =IF(Source_CL!F33=0,"",Source_CL!F33) -> Ce point n'est pas applicable pour les cultures sous serres. Des compactages du sol graves sont à contester. | H33: =IF('Source PD'!$B$833,"D","") | I33: =IF(F33<>"",$F$1,IF(G33<>"",$G$1,IF(H33="D","N/A(D)",IF(H33<>"","N/A",IF('Source PD'!$B$833,"N/A(D)",""))))) | J33: =IF(Checkliste!I33="N/A(D)",'Source PD'!$D$825&'Source PD'!$D$835,"") | K33: Büro | M33: =IF(I33="Ja",B33,IF(I33="Ja(D)",B33,IF(I33="Oui",B33,IF(I33="Oui(D)",B33,"")))) | N33: =IF(I33="Nein",B33,IF(I33="Non",B33,"")) | O33: =IF(I33="N/A",B33,IF(I33="N/A(D)",B33,"")) | Q33: 1 | T33: =IF(OR(LEFT(F33,1)= " ",LEFT(G33,1)=" ",LEFT(H33,1)=" ",F33&G33&H33=""),21,"") -> 21 | U33: =IF(G33<>"",22,"") | AA33: =IF(Source_CL!J33=0,"",Source_CL!I33) -> Auditeur: questionnement oral, contrôle visuel
A34: =Source_CL!A34 -> 3.3 | B34: =IF(Source_CL!B34="","",Source_CL!B34) -> + | C34: =Source_CL!C34 -> Il n'y a pas de signes visibles d'érosion du sol et/ou des mesures sont prises pour éviter l'érosion du sol, comme l'ensemencement d'herbe ou d'engrais vert, la couverture du sol avec un matériel mulch aproprié ou à l'aide de haies. | D34: =IF(Source_CL!F34=0,"",Source_CL!F34) -> Ce point n'est pas applicable pour les cultures sous serres. Contrôle visuel dans les champs des semis, engrais verts et haies. | H34: =IF('Source PD'!$B$833,"D","") | I34: =IF(F34<>"",$F$1,IF(G34<>"",$G$1,IF(H34="D","N/A(D)",IF(H34<>"","N/A",IF('Source PD'!$B$833,"N/A(D)",""))))) | J34: =IF(Checkliste!I34="N/A(D)",'Source PD'!$D$825&'Source PD'!$D$835,"") | K34: Büro | M34: =IF(I34="Ja",B34,IF(I34="Ja(D)",B34,IF(I34="Oui",B34,IF(I34="Oui(D)",B34,"")))) | N34: =IF(I34="Nein",B34,IF(I34="Non",B34,"")) | O34: =IF(I34="N/A",B34,IF(I34="N/A(D)",B34,"")) | Q34: 1 | T34: =IF(OR(LEFT(F34,1)= " ",LEFT(G34,1)=" ",LEFT(H34,1)=" ",F34&G34&H34=""),21,"") -> 21 | U34: =IF(G34<>"",22,"") | AA34: =IF(Source_CL!J34=0,"",Source_CL!I34) -> Auditeur: questionnement oral, contrôle visuel
A35: =Source_CL!A35 -> 3.4 | B35: =IF(Source_CL!B35="","",Source_CL!B35) -> +- | C35: =Source_CL!C35 -> Les données relatives au semis/à la plantation sont enregistrées. | D35: =IF(Source_CL!F35=0,"",Source_CL!F35) -> - | I35: =IF(F35<>"",$F$1,IF(G35<>"",$G$1,IF(H35<>"","N/A",""))) | K35: Büro | M35: =IF(I35="Ja",B35,IF(I35="Ja(D)",B35,IF(I35="Oui",B35,IF(I35="Oui(D)",B35,"")))) | N35: =IF(I35="Nein",B35,IF(I35="Non",B35,"")) | O35: =IF(I35="N/A",B35,IF(I35="N/A(D)",B35,"")) | Q35: 1 | T35: =IF(OR(LEFT(F35,1)= " ",LEFT(G35,1)=" ",LEFT(H35,1)=" ",F35&G35&H35=""),21,"") -> 21 | U35: =IF(G35<>"",22,"") | AA35: =IF(Source_CL!J35=0,"",Source_CL!I35) -> Journal des cultures (FO) Auditeur: vérifier les enregistrements
A36: =Source_CL!A36 -> 3.5 | B36: =IF(Source_CL!B36="","",Source_CL!B36) -> ++ | C36: =Source_CL!C36 -> La désinfection chimique du sol est interdite. | D36: =IF(Source_CL!F36=0,"",Source_CL!F36) -> - | I36: =IF(F36<>"",$F$1,IF(G36<>"",$G$1,IF(H36<>"","N/A",""))) | K36: Büro | M36: =IF(I36="Ja",B36,IF(I36="Ja(D)",B36,IF(I36="Oui",B36,IF(I36="Oui(D)",B36,"")))) | N36: =IF(I36="Nein",B36,IF(I36="Non",B36,"")) | O36: =IF(I36="N/A",B36,IF(I36="N/A(D)",B36,"")) | Q36: 1 | T36: =IF(OR(LEFT(F36,1)= " ",LEFT(G36,1)=" ",LEFT(H36,1)=" ",F36&G36&H36=""),21,"") -> 21 | U36: =IF(G36<>"",22,"") | AA36: =IF(Source_CL!J36=0,"",Source_CL!I36) -> Auditeur : questionnement oral pour savoir si une désinfection chimique du sol a été effectuée. Contrôle visuel de la présence de produits correspondants, surtout dans l'entrepôt de PPh.
A37: =Source_CL!A37 -> 4 | B37: =IF(Source_CL!B37="","",Source_CL!B37) | C37: =Source_CL!C37 -> 4. SUBSTRATS | I37: x | J37: =IF(Checkliste!I37="N/A(D)",'Source PD'!$D$825&'Source PD'!$D$834,"") | M37: =IF(I37="Ja",B37,IF(I37="Ja(D)",B37,IF(I37="Oui",B37,IF(I37="Oui(D)",B37,"")))) | N37: =IF(I37="Nein",B37,IF(I37="Non",B37,"")) | O37: =IF(I37="N/A",B37,IF(I37="N/A(D)",B37,"")) | Q37: 1 | R37: 3 | S37: 6 | T37: =IF(T38&T39&T40&T41="","",21) -> 21 | AA37: =IF(Source_CL!J37=0,"",Source_CL!I37)
A38: =Source_CL!A38 -> 4.1 | B38: =IF(Source_CL!B38="","",Source_CL!B38) -> + | C38: =Source_CL!C38 -> La stérilisation chimique des substrats est interdite. Si les substrats sont réutilisés, ils doivent être stérilisés à la vapeur. | D38: =IF(Source_CL!F38=0,"",Source_CL!F38) | H38: =IF('Source PD'!$B$839,"D","") | I38: =IF(F38<>"",$F$1,IF(G38<>"",$G$1,IF(H38="D","N/A(D)",IF(H38<>"","N/A",IF('Source PD'!$B$839,"N/A(D)",""))))) | J38: =IF(Checkliste!I38="N/A(D)",'Source PD'!$D$825&'Source PD'!$D$840,"") | K38: Büro, Betrieb | L38: No N/A | M38: =IF(I38="Ja",B38,IF(I38="Ja(D)",B38,IF(I38="Oui",B38,IF(I38="Oui(D)",B38,"")))) | N38: =IF(I38="Nein",B38,IF(I38="Non",B38,"")) | O38: =IF(I38="N/A",B38,IF(I38="N/A(D)",B38,"")) | Q38: 1 | R38: 6 | T38: =IF(OR(LEFT(F38,1)= " ",LEFT(G38,1)=" ",LEFT(H38,1)=" ",F38&G38&H38=""),21,"") -> 21 | U38: =IF(G38<>"",22,"") | AA38: =IF(Source_CL!J38=0,"",Source_CL!I38) -> Auditeur : Questionnement oral pour savoir si une stérilisation chimique des substrats a été effectuée. Contrôle visuel de la présence de produits correspondants ou de signes visibles de stérilisation chimique sur le site de l'entreprise.
A39: =Source_CL!A39 -> 4.2 | B39: =IF(Source_CL!B39="","",Source_CL!B39) -> + | C39: =Source_CL!C39 -> La quantité et la date des matériaux utilisés (recyclés) sont documentés. Des factures resp. des bulletins de livraisons sont suffisants. Une non-participation à un programme de recyclage disponible devrait être justifiée. Pas applicable pour les plantes en pot qui sont vendues avec le substrat ou lorsqu'il n'y a pas de déchets de substrat. | D39: =IF(Source_CL!F39=0,"",Source_CL!F39) -> Si des substrats sont utilisés en dehors de l'exploitation, cela doit pouvoir être démontré grâce aux documents de livraison à l'acheteur. Une utilisation interne est documentée. | H39: =IF('Source PD'!$B$839,"D","") | I39: =IF(F39<>"",$F$1,IF(G39<>"",$G$1,IF(H39="D","N/A(D)",IF(H39<>"","N/A",IF('Source PD'!$B$839,"N/A(D)",""))))) | J39: =IF(Checkliste!I39="N/A(D)",'Source PD'!$D$825&'Source PD'!$D$840,"") | K39: Betrieb, Kulturen | L39: No N/A | M39: =IF(I39="Ja",B39,IF(I39="Ja(D)",B39,IF(I39="Oui",B39,IF(I39="Oui(D)",B39,"")))) | N39: =IF(I39="Nein",B39,IF(I39="Non",B39,"")) | O39: =IF(I39="N/A",B39,IF(I39="N/A(D)",B39,"")) | Q39: 3 | R39: 6 | T39: =IF(OR(LEFT(F39,1)= " ",LEFT(G39,1)=" ",LEFT(H39,1)=" ",F39&G39&H39=""),21,"") -> 21 | U39: =IF(G39<>"",22,"") | AA39: =IF(Source_CL!J39=0,"",Source_CL!I39) -> Bulletins de livraison, factures Auditeur : questionnement oral sur la nature des substrats utilisés, puis sur leur réutilisation ou leur élimination.
A40: =Source_CL!A40 -> 4.3 | B40: =IF(Source_CL!B40="","",Source_CL!B40) -> ++ | C40: =Source_CL!C40 -> Des attestations sont disponibles pour les substrats d'origine naturelle garantissant qu'ils ne proviennent pas de régions naturelles protégées. | D40: =IF(Source_CL!F40=0,"",Source_CL!F40) -> Les documents et conventions de livraison sont également considérés comme enregistrements. Une attestation globale du fournisseur est possible. | H40: =IF('Source PD'!$B$839,"D","") | I40: =IF(F40<>"",$F$1,IF(G40<>"",$G$1,IF(H40="D","N/A(D)",IF(H40<>"","N/A",IF('Source PD'!$B$839,"N/A(D)",""))))) | J40: =IF(Checkliste!I40="N/A(D)",'Source PD'!$D$825&'Source PD'!$D$840,"") | K40: Büro | M40: =IF(I40="Ja",B40,IF(I40="Ja(D)",B40,IF(I40="Oui",B40,IF(I40="Oui(D)",B40,"")))) | N40: =IF(I40="Nein",B40,IF(I40="Non",B40,"")) | O40: =IF(I40="N/A",B40,IF(I40="N/A(D)",B40,"")) | Q40: 1 | T40: =IF(OR(LEFT(F40,1)= " ",LEFT(G40,1)=" ",LEFT(H40,1)=" ",F40&G40&H40=""),21,"") -> 21 | U40: =IF(G40<>"",22,"") | AA40: =IF(Source_CL!J40=0,"",Source_CL!I40) -> Confirmations des fournisseurs, bulletins de livraison Auditeur: vérifier la confirmation
...

Sheet Resultat
A1: =Source!D340 -> Résultat de la checkliste SwissGAP horticulture
A3: =Source!D341 -> Exploitation: | B3: ='Audit Info'!C5 -> 0 | H3: =Source!D370 -> Date: | I3: =IF(ISBLANK('Audit Info'!E22),"",'Audit Info'!E22)
A5: =Source!D342 -> Calcul original après la fin de l'audit
A6: =Source!D348 -> Niveau | B6: =Source!D373 -> Total points de contrôle | C6: =Source!D374 -> sans réponse | D6: =Source!D375 -> N/A | E6: =Source!D376 -> Oui | F6: =Source!D377 -> Non | G6: =Source!D378 -> Non conformités corrigés | H6: =Source!D379 -> % Conformité | I6: =Source!D380 -> Niveau de conformité exigé (%)
A7: =Source!D349 -> Exigences majeures | B7: =COUNTIF(Checkliste!B2:B210,"++") -> 65 | C7: =B7-COUNTIF(Checkliste!M4:O210,"++") -> 64 | D7: =COUNTIF(Checkliste!O4:O210,"++") -> 0 | E7: =COUNTIF(Checkliste!M4:M210,"++") -> 1 | F7: =COUNTIF(Checkliste!N4:N210,"++") -> 0 | G7: - | H7: =E7/(B7-D7) -> 0.015384615 | I7: 1
A8: =Source!D350 -> Exigences mineures | B8: =COUNTIF(Checkliste!B2:B210,"+") -> 81 | C8: =B8-COUNTIF(Checkliste!M4:O210,"+") -> 81 | D8: =COUNTIF(Checkliste!O4:O210,"+") -> 0 | E8: =COUNTIF(Checkliste!M4:M210,"+") -> 0 | F8: =COUNTIF(Checkliste!N4:N210,"+") -> 0 | G8: - | H8: =E8/(B8-D8) -> 0 | I8: 0.95
A9: =Source!D351 -> Recommandations: | B9: =COUNTIF(Checkliste!B2:B210,"+-") -> 11 | C9: =B9-COUNTIF(Checkliste!M4:O210,"+-") -> 11 | D9: =COUNTIF(Checkliste!O4:O210,"+-") -> 0 | E9: =COUNTIF(Checkliste!M4:M210,"+-") -> 0 | F9: =COUNTIF(Checkliste!N4:N210,"+-") -> 0 | G9: - | H9: =E9/(B9-D9) -> 0 | I9: -
A10: =Source!D352 -> Total | B10: =SUM(B7:B9) -> 157 | C10: =SUM(C7:C9) -> 156 | D10: =SUM(D7:D9) -> 0 | E10: =SUM(E7:E9) -> 1 | F10: =SUM(F7:F9) -> 0 | G10: - | H10: - | I10: -
A12: =Source!D343 -> Calcul révisé après la clôture des poits non-conformes
A13: =Source!D348 -> Niveau | B13: =Source!D373 -> Total points de contrôle | C13: =Source!D374 -> sans réponse | D13: =Source!D375 -> N/A | E13: =Source!D376 -> Oui | F13: =Source!D377 -> Non | G13: =Source!D378 -> Non conformités corrigés | H13: =Source!D379 -> % Conformité | I13: =Source!D380 -> Niveau de conformité exigé (%)
A14: =Source!D349 -> Exigences majeures | B14: =COUNTIF(Checkliste!B2:B210,"++") -> 65 | C14: =B7-COUNTIF(Checkliste!M4:O210,"++") -> 64 | D14: =COUNTIF(Checkliste!O4:O210,"++") -> 0 | E14: =COUNTIF(Checkliste!M4:M210,"++") -> 1 | F14: =COUNTIF(Checkliste!N4:N210,"++") -> 0 | H14: =(E14+G14)/(B14-D14) -> 0.015384615 | I14: 1
A15: =Source!D350 -> Exigences mineures | B15: =COUNTIF(Checkliste!B2:B210,"+") -> 81 | C15: =B8-COUNTIF(Checkliste!M4:O210,"+") -> 81 | D15: =COUNTIF(Checkliste!O4:O210,"+") -> 0 | E15: =COUNTIF(Checkliste!M4:M210,"+") -> 0 | F15: =COUNTIF(Checkliste!N4:N210,"+") -> 0 | H15: =(E15+G15)/(B15-D15) -> 0 | I15: 0.95
A16: =Source!D351 -> Recommandations: | B16: =COUNTIF(Checkliste!B2:B210,"+-") -> 11 | C16: =B9-COUNTIF(Checkliste!M4:O210,"+-") -> 11 | D16: =COUNTIF(Checkliste!O4:O210,"+-") -> 0 | E16: =COUNTIF(Checkliste!M4:M210,"+-") -> 0 | F16: =COUNTIF(Checkliste!N4:N210,"+-") -> 0 | H16: =(E16+G16)/(B16-D16) -> 0 | I16: -
A17: =Source!D352 -> Total | B17: =SUM(B14:B16) -> 157 | C17: =SUM(C14:C16) -> 156 | D17: =SUM(D14:D16) -> 0 | E17: =SUM(E14:E16) -> 1 | F17: =SUM(F14:F16) -> 0 | G17: =SUM(G14:G16) -> 0 | H17: - | I17: -
A21: =Source!D353 -> Interprétation des résultats:
A22: =Source!D354 -> Exigences majeures:
A23: =Source!D355 -> Si le niveau de conformité atteint est en dessous du niveau de conformité exigé de 100%, des mesures correctives doivent être implementées pour tous les points de contrôle non conformes. Lors d'une re-certification, le délai disponible pour une correction s'élève au maximum à 28 jours.
A24: =Source!D356 -> Exigences mineures:
A25: =Source!D357 -> Si le niveau de conformité atteint est en dessous du niveau de conformité exigé de 95%, des mesures correctives doivent être implementées pour les points de contrôle non conformes, jusqu'à ce que le degré de conformité exigé de 95% soit atteint.
A26: =Source!D358 -> Recommandations:
A27: =Source!D359 -> Aucun pourcentage minimum de conformité n'est exigé.
A30: =Source!D360 -> Pour utilisation interne ProCert
C31: =Source!D363 -> Date | E31: =Source!D364 -> Sigle
A32: =Source!D361 -> Verification | E32: MW
A33: =Source!D362 -> Libération pour la certification | E33: MW

Sheet CL Suisse Garantie
A1: =Source!D430 -> Date: | B1: =IF(ISBLANK('Audit Info'!E22),"",'Audit Info'!E22) | E1: =Source!D636 -> Organe de certification: | F1: ProCert
E2: =Source!D637 -> Inspecteur:
A3: =Source!D431 -> Lieu: | B3: =IF(ISBLANK('Audit Info'!C8),"",'Audit Info'!C8) | E3: =IF(ISBLANK('Audit Info'!C22),"",'Audit Info'!C22)
E4: =Source!D638 -> N° de tél: | F4: ='Audit Info'!C23 -> 0
A5: =Source!D432 -> Entreprise: | E5: =Source!D639 -> Responsable pour Suisse Garantie:
E6: =Source!D640 -> Nom: | F6: ='Audit Info'!C13&" " &'Audit Info'!C14
A7: =Source!D434 -> Nom: | B7: =IF(ISBLANK('Audit Info'!C5),"",'Audit Info'!C5) | E7: =Source!D641 -> E-mail: | F7: =IF(ISBLANK('Audit Info'!C17),"",'Audit Info'!C17)
A8: =Source!D435 -> Rue: | B8: =IF(ISBLANK('Audit Info'!C6),"",'Audit Info'!C6) | E8: =Source!D642 -> Autres collaborateurs interrogés et leur fonction:
A9: =Source!D436 -> NPA/lieu: | B9: ='Audit Info'!C7&" " &'Audit Info'!C8
A10: =Source!D437 -> Type d'audit: | D10: =Source!D427 -> Admission | E10: =Source!D428 -> Surveillance | F10: =Source!D429 -> Re-certification
A11: =Source!D439 -> Produits dans le domaine Suisse Garantie: | E11: =Source!D643 -> Documents de référence dans leurs versions actuelles:
B12: =Source!D530 -> Plantes d'ornement | D12: =Source!D626 -> Plantes de pépinières | E12: =Source!D644 -> • Règlement général AMS
